BEGIN:VCALENDAR
VERSION:2.0
PRODID:icalendar-ruby
CALSCALE:GREGORIAN
METHOD:PUBLISH
BEGIN:VEVENT
DTSTAMP:20260420T034701Z
UID:59-2127149@parkefc.org
DTSTART:20261009T223000Z
DTEND:20261009T233000Z
CLASS:PUBLIC
CREATED:20260419T233144
DESCRIPTION:A time for parents to have their own dicipleship time after dro
 pping their children off to Kid's club!
LAST-MODIFIED:20260419T233144
LOCATION:Foyer - Park Church
SUMMARY:Parent Small Group
URL;VALUE=URI:https://www.parkefc.org/events/parent-small-group--59/2026-10
 -09
ATTACH;FILENAME=Small-Groups.png;FMTTYPE=image/png:https://dq5pwpg1q8ru0.cl
 oudfront.net/2025/10/23/14/10/01/9f5ce29c-2d18-4b4c-b586-9b9c40db37b3/Smal
 l-Groups.png
END:VEVENT
END:VCALENDAR
