BEGIN:VCALENDAR
VERSION:2.0
PRODID:icalendar-ruby
CALSCALE:GREGORIAN
METHOD:PUBLISH
BEGIN:VEVENT
DTSTAMP:20260420T234943Z
UID:17-2134740@parkefc.org
DTSTART:20261012T223000Z
DTEND:20261013T000000Z
CLASS:PUBLIC
CREATED:20260420T181524
DESCRIPTION:Monday night small group is led by Pastor Jason Hamlett.\nAre y
 ou interested in joining? Please contact Jason Hamlett at (336) 447-0834.\
 nSmall groups is a time and place to discuss the most recent sermon.
LAST-MODIFIED:20260420T181524
LOCATION:Pastor's House
SUMMARY:Small Group Hamlett
URL;VALUE=URI:https://www.parkefc.org/events/small-group-hamlett/2026-10-12
ATTACH;FILENAME=Small-Groups.png;FMTTYPE=image/png:https://dq5pwpg1q8ru0.cl
 oudfront.net/2025/07/01/17/59/41/e0518bf3-5647-46f0-aed0-de94f469159f/Smal
 l-Groups.png
END:VEVENT
END:VCALENDAR
